BEGIN:VCALENDAR
VERSION:2.0
PRODID:-//Community Military Appreciation Committee - ECPv6.11.0.1//NONSGML v1.0//EN
CALSCALE:GREGORIAN
METHOD:PUBLISH
X-ORIGINAL-URL:https://cmac.sitealtitude.com
X-WR-CALDESC:Events for Community Military Appreciation Committee
REFRESH-INTERVAL;VALUE=DURATION:PT1H
X-Robots-Tag:noindex
X-PUBLISHED-TTL:PT1H
BEGIN:VTIMEZONE
TZID:America/Los_Angeles
BEGIN:DAYLIGHT
TZOFFSETFROM:-0800
TZOFFSETTO:-0700
TZNAME:PDT
DTSTART:20250309T100000
END:DAYLIGHT
BEGIN:STANDARD
TZOFFSETFROM:-0700
TZOFFSETTO:-0800
TZNAME:PST
DTSTART:20251102T090000
END:STANDARD
END:VTIMEZONE
BEGIN:VEVENT
DTSTART;TZID=America/Los_Angeles:20250808T083000
DTEND;TZID=America/Los_Angeles:20250808T093000
DTSTAMP:20260425T172910
CREATED:20250326T054453Z
LAST-MODIFIED:20250326T213002Z
UID:24363-1754641800-1754645400@cmac.sitealtitude.com
SUMMARY:General Membership Meeting
DESCRIPTION:If you would like to suggest an agenda item for this meeting\, please contact our CMAC Secretary\, Stephanie Collazo-Serrano\, via email:  cmac11secretary@gmail.com
URL:https://cmac.sitealtitude.com/event/general-membership-meeting-13/
LOCATION:40 et 8 Boxcar\, 2809 NE 78th St.\, Vancouver\, WA\, 98665\, United States
END:VEVENT
BEGIN:VEVENT
DTSTART;TZID=America/Los_Angeles:20250725T083000
DTEND;TZID=America/Los_Angeles:20250725T093000
DTSTAMP:20260425T172910
CREATED:20250326T054325Z
LAST-MODIFIED:20250326T213032Z
UID:24361-1753432200-1753435800@cmac.sitealtitude.com
SUMMARY:General Membership Meeting
DESCRIPTION:If you would like to suggest an agenda item for this meeting\, please contact our CMAC Secretary\, Stephanie Collazo-Serrano\, via email:  cmac11secretary@gmail.com
URL:https://cmac.sitealtitude.com/event/general-membership-meeting-12/
LOCATION:40 et 8 Boxcar\, 2809 NE 78th St.\, Vancouver\, WA\, 98665\, United States
END:VEVENT
BEGIN:VEVENT
DTSTART;TZID=America/Los_Angeles:20250711T083000
DTEND;TZID=America/Los_Angeles:20250711T093000
DTSTAMP:20260425T172910
CREATED:20250326T054230Z
LAST-MODIFIED:20250326T213059Z
UID:24359-1752222600-1752226200@cmac.sitealtitude.com
SUMMARY:General Membership Meeting
DESCRIPTION:If you would like to suggest an agenda item for this meeting\, please contact our CMAC Secretary\, Stephanie Collazo-Serrano\, via email:  cmac11secretary@gmail.com
URL:https://cmac.sitealtitude.com/event/general-membership-meeting-11/
LOCATION:40 et 8 Boxcar\, 2809 NE 78th St.\, Vancouver\, WA\, 98665\, United States
END:VEVENT
BEGIN:VEVENT
DTSTART;TZID=America/Los_Angeles:20250627T083000
DTEND;TZID=America/Los_Angeles:20250627T093000
DTSTAMP:20260425T172910
CREATED:20250326T054130Z
LAST-MODIFIED:20250326T213133Z
UID:24357-1751013000-1751016600@cmac.sitealtitude.com
SUMMARY:General Membership Meeting
DESCRIPTION:If you would like to suggest an agenda item for this meeting\, please contact our CMAC Secretary\, Stephanie Collazo-Serrano\, via email:  cmac11secretary@gmail.com
URL:https://cmac.sitealtitude.com/event/general-membership-meeting-10/
LOCATION:40 et 8 Boxcar\, 2809 NE 78th St.\, Vancouver\, WA\, 98665\, United States
END:VEVENT
BEGIN:VEVENT
DTSTART;TZID=America/Los_Angeles:20250613T083000
DTEND;TZID=America/Los_Angeles:20250613T093000
DTSTAMP:20260425T172910
CREATED:20250326T053730Z
LAST-MODIFIED:20250326T214109Z
UID:24355-1749803400-1749807000@cmac.sitealtitude.com
SUMMARY:General Membership Meeting
DESCRIPTION:If you would like to suggest an agenda item for this meeting\, please contact our CMAC Secretary\, Stephanie Collazo-Serrano\, via email:  cmac11secretary@gmail.com
URL:https://cmac.sitealtitude.com/event/general-membership-meeting-8/
LOCATION:40 et 8 Boxcar\, 2809 NE 78th St.\, Vancouver\, WA\, 98665\, United States
END:VEVENT
BEGIN:VEVENT
DTSTART;TZID=America/Los_Angeles:20250530T083000
DTEND;TZID=America/Los_Angeles:20250530T093000
DTSTAMP:20260425T172910
CREATED:20250326T053339Z
LAST-MODIFIED:20250326T213236Z
UID:24353-1748593800-1748597400@cmac.sitealtitude.com
SUMMARY:General Membership Meeting
DESCRIPTION:If you would like to suggest an agenda item for this meeting\, please contact our CMAC Secretary\, Stephanie Collazo-Serrano\, via email:  cmac11secretary@gmail.com
URL:https://cmac.sitealtitude.com/event/general-membership-meeting-9/
LOCATION:40 et 8 Boxcar\, 2809 NE 78th St.\, Vancouver\, WA\, 98665\, United States
END:VEVENT
BEGIN:VEVENT
DTSTART;TZID=America/Los_Angeles:20250526T110000
DTEND;TZID=America/Los_Angeles:20250526T130000
DTSTAMP:20260425T172910
CREATED:20250214T051338Z
LAST-MODIFIED:20250326T213308Z
UID:24260-1748257200-1748264400@cmac.sitealtitude.com
SUMMARY:MEMORIAL DAY
DESCRIPTION:The Memorial Day event hosted by CMAC is a poignant reminder of the cost of freedom and a testament to the community’s unwavering support for its military and first responder families. It is a day of remembrance\, unity\, and appreciation for those who have served and continue to serve our nation.  We look forward to coming together as a community to pay tribute to those who have made the ultimate sacrifice for our freedom.
URL:https://cmac.sitealtitude.com/event/memorial-day/
LOCATION:Fort Vancouver Parade Grounds\, 1101 Officers Row\, Vancouver\, WA\, 98661\, United States
ORGANIZER;CN="Launie O'Leary%2C CMAC Director of Operations":MAILTO:launie.oleary@gmail.com
END:VEVENT
BEGIN:VEVENT
DTSTART;TZID=America/Los_Angeles:20250516T083000
DTEND;TZID=America/Los_Angeles:20250516T093000
DTSTAMP:20260425T172910
CREATED:20250326T053211Z
LAST-MODIFIED:20250326T213344Z
UID:24349-1747384200-1747387800@cmac.sitealtitude.com
SUMMARY:General Membership Meeting
DESCRIPTION:If you would like to suggest an agenda item for this meeting\, please contact our CMAC Secretary\, Stephanie Collazo-Serrano\, via email:  cmac11secretary@gmail.com
URL:https://cmac.sitealtitude.com/event/general-membership-meeting-7/
LOCATION:40 et 8 Boxcar\, 2809 NE 78th St.\, Vancouver\, WA\, 98665\, United States
END:VEVENT
BEGIN:VEVENT
DTSTART;TZID=America/Los_Angeles:20250515T190000
DTEND;TZID=America/Los_Angeles:20250515T210000
DTSTAMP:20260425T172910
CREATED:20250214T045343Z
LAST-MODIFIED:20250429T211008Z
UID:24250-1747335600-1747342800@cmac.sitealtitude.com
SUMMARY:OUR COMMUNITY SALUTES
DESCRIPTION:The Community Military Appreciation Committee (CMAC) hosts the “Our Community Salutes” event to honor and recognize high school seniors who have committed to joining the United States Armed Forces after graduation. This inspiring event brings together families\, friends\, educators\, and community leaders to celebrate the dedication and patriotism of these young individuals.  Join us as we honor and recognize high school seniors who have committed to joining the United States Armed Forces. \n2025 OCS flyer
URL:https://cmac.sitealtitude.com/event/our-community-salutes-2/
LOCATION:Skyview High School Auditorium\, 1300 NW 139th St.\, Vancouver\, WA\, 98685\, United States
END:VEVENT
BEGIN:VEVENT
DTSTART;TZID=America/Los_Angeles:20250502T083000
DTEND;TZID=America/Los_Angeles:20250502T093000
DTSTAMP:20260425T172910
CREATED:20250326T053134Z
LAST-MODIFIED:20250326T213449Z
UID:24347-1746174600-1746178200@cmac.sitealtitude.com
SUMMARY:General Membership Meeting
DESCRIPTION:If you would like to suggest an agenda item for this meeting\, please contact our CMAC Secretary\, Stephanie Collazo-Serrano\, via email:  cmac11secretary@gmail.com
URL:https://cmac.sitealtitude.com/event/general-membership-meeting-6/
LOCATION:40 et 8 Boxcar\, 2809 NE 78th St.\, Vancouver\, WA\, 98665\, United States
END:VEVENT
BEGIN:VEVENT
DTSTART;TZID=America/Los_Angeles:20250422T123000
DTEND;TZID=America/Los_Angeles:20250422T140000
DTSTAMP:20260425T172910
CREATED:20250328T203738Z
LAST-MODIFIED:20250328T204223Z
UID:24424-1745325000-1745330400@cmac.sitealtitude.com
SUMMARY:Never to be Forgotten Ceremony - SPC Eric Dean King
DESCRIPTION:SPC Eric Dean King
URL:https://cmac.sitealtitude.com/event/never-to-be-forgotten-ceremony-spc-eric-dean-king/
LOCATION:Fort Vancouver Barracks War Memorial\, 987 McClellan Rd\, Vancouver\, WA\, 98661\, United States
END:VEVENT
BEGIN:VEVENT
DTSTART;TZID=America/Los_Angeles:20250418T083000
DTEND;TZID=America/Los_Angeles:20250418T093000
DTSTAMP:20260425T172910
CREATED:20250326T053049Z
LAST-MODIFIED:20250326T213525Z
UID:24345-1744965000-1744968600@cmac.sitealtitude.com
SUMMARY:General Membership Meeting
DESCRIPTION:If you would like to suggest an agenda item for this meeting\, please contact our CMAC Secretary\, Stephanie Collazo-Serrano\, via email:  cmac11secretary@gmail.com
URL:https://cmac.sitealtitude.com/event/general-membership-meeting-5/
LOCATION:40 et 8 Boxcar\, 2809 NE 78th St.\, Vancouver\, WA\, 98665\, United States
END:VEVENT
BEGIN:VEVENT
DTSTART;TZID=America/Los_Angeles:20250404T083000
DTEND;TZID=America/Los_Angeles:20250404T093000
DTSTAMP:20260425T172910
CREATED:20250326T052925Z
LAST-MODIFIED:20250326T213558Z
UID:24343-1743755400-1743759000@cmac.sitealtitude.com
SUMMARY:General Membership Meeting
DESCRIPTION:If you would like to suggest an agenda item for this meeting\, please contact our CMAC Secretary\, Stephanie Collazo-Serrano\, via email:  cmac11secretary@gmail.com
URL:https://cmac.sitealtitude.com/event/general-membership-meeting-4/
LOCATION:40 et 8 Boxcar\, 2809 NE 78th St.\, Vancouver\, WA\, 98665\, United States
END:VEVENT
BEGIN:VEVENT
DTSTART;VALUE=DATE:20250329
DTEND;VALUE=DATE:20250330
DTSTAMP:20260425T172910
CREATED:20250326T215211Z
LAST-MODIFIED:20250326T220313Z
UID:24392-1743206400-1743292799@cmac.sitealtitude.com
SUMMARY:National Vietnam War Veterans Day
DESCRIPTION:2025 Natl Vietnam Veterans Day \nNational Vietnam War Veterans Day \nVietnam Veterans Day at VFW Post 7824
URL:https://cmac.sitealtitude.com/event/national-vietnam-war-veterans-day/
LOCATION:WA
END:VEVENT
BEGIN:VEVENT
DTSTART;TZID=America/Los_Angeles:20250321T083000
DTEND;TZID=America/Los_Angeles:20250321T093000
DTSTAMP:20260425T172910
CREATED:20250326T052712Z
LAST-MODIFIED:20250326T213627Z
UID:24341-1742545800-1742549400@cmac.sitealtitude.com
SUMMARY:General Membership Meeting
DESCRIPTION:If you would like to suggest an agenda item for this meeting\, please contact our CMAC Secretary\, Stephanie Collazo-Serrano\, via email:  cmac11secretary@gmail.com \n 
URL:https://cmac.sitealtitude.com/event/general-membership-meeting-3/
LOCATION:40 et 8 Boxcar\, 2809 NE 78th St.\, Vancouver\, WA\, 98665\, United States
END:VEVENT
BEGIN:VEVENT
DTSTART;TZID=America/Los_Angeles:20250307T083000
DTEND;TZID=America/Los_Angeles:20250307T093000
DTSTAMP:20260425T172910
CREATED:20250214T090945Z
LAST-MODIFIED:20250326T213705Z
UID:24319-1741336200-1741339800@cmac.sitealtitude.com
SUMMARY:General Membership Meeting
DESCRIPTION:If you would like to suggest an agenda item for this meeting\, please contact our CMAC Secretary\, Stephanie Collazo-Serrano at cmac11.secretary@gmail.com
URL:https://cmac.sitealtitude.com/event/general-membership-meeting-2/
LOCATION:40 et 8 Boxcar\, 2809 NE 78th St.\, Vancouver\, WA\, 98665\, United States
END:VEVENT
BEGIN:VEVENT
DTSTART;TZID=America/Los_Angeles:20250221T083000
DTEND;TZID=America/Los_Angeles:20250221T093000
DTSTAMP:20260425T172910
CREATED:20250214T091358Z
LAST-MODIFIED:20250326T213737Z
UID:24321-1740126600-1740130200@cmac.sitealtitude.com
SUMMARY:General Membership Meeting
DESCRIPTION:If you would like to suggest an agenda item for this meeting\, please contact our CMAC Secretary\, Stephanie Collazo-Serrano at cmac11.secretary@gmail.com
URL:https://cmac.sitealtitude.com/event/general-membership-meeting/
LOCATION:40 et 8 Boxcar\, 2809 NE 78th St.\, Vancouver\, WA\, 98665\, United States
END:VEVENT
END:VCALENDAR